BEGIN:VCALENDAR
VERSION:2.0
PRODID:-//Little Lifers First Aid Ltd - ECPv6.3.6//NONSGML v1.0//EN
CALSCALE:GREGORIAN
METHOD:PUBLISH
X-ORIGINAL-URL:https://littlelifersfirstaid.com
X-WR-CALDESC:Events for Little Lifers First Aid Ltd
REFRESH-INTERVAL;VALUE=DURATION:PT1H
X-Robots-Tag:noindex
X-PUBLISHED-TTL:PT1H
BEGIN:VTIMEZONE
TZID:Europe/London
BEGIN:DAYLIGHT
TZOFFSETFROM:+0000
TZOFFSETTO:+0100
TZNAME:BST
DTSTART:20250330T010000
END:DAYLIGHT
BEGIN:STANDARD
TZOFFSETFROM:+0100
TZOFFSETTO:+0000
TZNAME:GMT
DTSTART:20251026T010000
END:STANDARD
END:VTIMEZONE
BEGIN:VEVENT
DTSTART;TZID=Europe/London:20250326T183000
DTEND;TZID=Europe/London:20250326T204500
DTSTAMP:20260422T054913
CREATED:20250212T184130Z
LAST-MODIFIED:20250212T184130Z
UID:10000010-1743013800-1743021900@littlelifersfirstaid.com
SUMMARY:Baby & child first aid awareness class for parents\,grandparents carers of little ones
DESCRIPTION:
URL:https://littlelifersfirstaid.com/event/baby-child-first-aid-awareness-class-for-parentsgrandparents-carers-of-little-ones/
LOCATION:St Marys Church Centre Egremont\, St Bridgets Lane\, Egremont\, Cumbria\, CA22 2BD\, United Kingdom
ORGANIZER;CN="Natalie Groggins":MAILTO:littlelifersfirstaid@hotmail.com
END:VEVENT
END:VCALENDAR